BEGIN:VCALENDAR
VERSION:2.0
PRODID:-//Glen Ivy - ECPv6.15.20//NONSGML v1.0//EN
CALSCALE:GREGORIAN
METHOD:PUBLISH
X-WR-CALNAME:Glen Ivy
X-ORIGINAL-URL:https://glenivy.com
X-WR-CALDESC:Events for Glen Ivy
REFRESH-INTERVAL;VALUE=DURATION:PT1H
X-Robots-Tag:noindex
X-PUBLISHED-TTL:PT1H
BEGIN:VTIMEZONE
TZID:America/Los_Angeles
BEGIN:DAYLIGHT
TZOFFSETFROM:-0800
TZOFFSETTO:-0700
TZNAME:PDT
DTSTART:20250309T100000
END:DAYLIGHT
BEGIN:STANDARD
TZOFFSETFROM:-0700
TZOFFSETTO:-0800
TZNAME:PST
DTSTART:20251102T090000
END:STANDARD
BEGIN:DAYLIGHT
TZOFFSETFROM:-0800
TZOFFSETTO:-0700
TZNAME:PDT
DTSTART:20260308T100000
END:DAYLIGHT
BEGIN:STANDARD
TZOFFSETFROM:-0700
TZOFFSETTO:-0800
TZNAME:PST
DTSTART:20261101T090000
END:STANDARD
BEGIN:DAYLIGHT
TZOFFSETFROM:-0800
TZOFFSETTO:-0700
TZNAME:PDT
DTSTART:20270314T100000
END:DAYLIGHT
BEGIN:STANDARD
TZOFFSETFROM:-0700
TZOFFSETTO:-0800
TZNAME:PST
DTSTART:20271107T090000
END:STANDARD
END:VTIMEZONE
BEGIN:VEVENT
DTSTART;TZID=America/Los_Angeles:20260502T140000
DTEND;TZID=America/Los_Angeles:20260502T151500
DTSTAMP:20260421T012716
CREATED:20251230T232419Z
LAST-MODIFIED:20260414T171512Z
UID:10004672-1777730400-1777734900@glenivy.com
SUMMARY:Full Moon Yoga with Liz Clayton
DESCRIPTION:New Moons signify the beginning of a cycle\, a sort of cosmic reset. The New Moon is an ideal time for setting intentions and embracing new beginnings. It’s also an opportune time for inward focus and reflection for what you want to manifest in your life. These lunar energies can provide a transformational grounding and a sense of renewed awareness of our true nature. \nHarness Transformative Energy\nHarness the transformative energy of the New Moon and illuminate your path forward as we embark on a cosmic journey using gentle yoga\, breath work\, mantra chanting\, and deep relaxation to uncover your true essence and awaken to a more peaceful you. \nAbout the Instructor\nLiz Clayton has been immersed in the world of wellness for more two decades\, recognized as a trailblazer for curating soul-stirring experiences and award winning international retreats. Clayton has spent the past 10 years living abroad\, traveling across Asia and the Middle East exploring the ancient teachings of yoga/meditation and the divine wisdom of these sacred lineages\, all while cultivating an awareness of deep embodiment for her own spiritual growth and healing. Today\, Liz is back in California sharing her love of slow wellness\, holistic beauty and spirituality\, blended with her unique and fun approach to meditation. \nClasses will be held in the Secret Garden towards the back of the resort. \nWho should attend\nAnyone looking to unwind\, get into a rhythmic flow\, and cultivate a relaxed state of mind. \nAbout the Moon\nTo begin cultivating a connection with our cosmic essence (our unique energy) we will start this Meditation series by following the cycles of the moon. With the New Moon we set intentions that we wish to fulfill and then use the full moon to release what holds us back. On the full moon\, the energy of the month reaches its peak — making it one of the best times to use meditation to cultivate our intuition and become clear about what we need to release from our lives. New moons signify the beginning of a cycle\, a sort of cosmic reset. The new moon is an ideal time to set intentions around connecting to our sense of self. These lunar energies can provide grounding and a sense of renewed awareness of our true nature. We will vibrate the cosmos using gentle breath work\, chanting mantra\, and rhythmic movement. These simple and engaging mediation sets are designed to nourish the nervous system\, increase vitality and amplify our energetic frequency.
URL:https://glenivy.com/event/full-moon-yoga-with-liz-clayton/2026-05-02/
LOCATION:Glen Ivy Hot Springs
CATEGORIES:Activities,Featured
ATTACH;FMTTYPE=image/png:https://glenivy.com/wp-content/uploads/2024/07/Full-Moon-Yoga-Liz-Clayton.png
END:VEVENT
END:VCALENDAR