BEGIN:VCALENDAR
VERSION:2.0
PRODID:-//Glen Ivy - ECPv6.15.20//NONSGML v1.0//EN
CALSCALE:GREGORIAN
METHOD:PUBLISH
X-ORIGINAL-URL:https://glenivy.com
X-WR-CALDESC:Events for Glen Ivy
REFRESH-INTERVAL;VALUE=DURATION:PT1H
X-Robots-Tag:noindex
X-PUBLISHED-TTL:PT1H
BEGIN:VTIMEZONE
TZID:America/Los_Angeles
BEGIN:DAYLIGHT
TZOFFSETFROM:-0800
TZOFFSETTO:-0700
TZNAME:PDT
DTSTART:20250309T100000
END:DAYLIGHT
BEGIN:STANDARD
TZOFFSETFROM:-0700
TZOFFSETTO:-0800
TZNAME:PST
DTSTART:20251102T090000
END:STANDARD
BEGIN:DAYLIGHT
TZOFFSETFROM:-0800
TZOFFSETTO:-0700
TZNAME:PDT
DTSTART:20260308T100000
END:DAYLIGHT
BEGIN:STANDARD
TZOFFSETFROM:-0700
TZOFFSETTO:-0800
TZNAME:PST
DTSTART:20261101T090000
END:STANDARD
BEGIN:DAYLIGHT
TZOFFSETFROM:-0800
TZOFFSETTO:-0700
TZNAME:PDT
DTSTART:20270314T100000
END:DAYLIGHT
BEGIN:STANDARD
TZOFFSETFROM:-0700
TZOFFSETTO:-0800
TZNAME:PST
DTSTART:20271107T090000
END:STANDARD
END:VTIMEZONE
BEGIN:VEVENT
DTSTART;TZID=America/Los_Angeles:20260311T103000
DTEND;TZID=America/Los_Angeles:20260311T150000
DTSTAMP:20260421T052149
CREATED:20260219T011327Z
LAST-MODIFIED:20260219T011426Z
UID:10004641-1773225000-1773241200@glenivy.com
SUMMARY:Age Defense Master Class with Sublime Skin
DESCRIPTION:SUBLIME SKIN THE NATURAL FILLER SOLUTION\nHealthy\, plump skin is a universal desire\, even more so when the face shows signs of sagging and ageing—a challenge that requires a cutting-edge scientific approach. \nJoin us at an exclusive master class at Glen Ivy Hot Springs March 11th & 12th \, led by [ comfort zone ] skincare expert Rebecca Schneider. This interactive format centered around education through hands-on experience to learn application techniques and layering for optimal results. \nLearn about [ comfort zone ] Sublime Skin\, our natural filler solution\, specifically designed to counteract visible signs of ageing by reinforcing the skin’s structure—essential for maintaining tone and facial harmony. \nTimes\n10:30\, 12:00\, 1:30\, 3:00 (45min)
URL:https://glenivy.com/event/age-defense-master-class-with-sublime-skin/2026-03-11/
LOCATION:Glen Ivy Hot Springs
CATEGORIES:Activities,Featured,Master Class
ATTACH;FMTTYPE=image/jpeg:https://glenivy.com/wp-content/uploads/2026/02/Age-Defense-Master-Class-with-Sublime-Skin.jpg
END:VEVENT
BEGIN:VEVENT
DTSTART;TZID=America/Los_Angeles:20260312T103000
DTEND;TZID=America/Los_Angeles:20260312T150000
DTSTAMP:20260421T052149
CREATED:20260219T011327Z
LAST-MODIFIED:20260219T011426Z
UID:10004642-1773311400-1773327600@glenivy.com
SUMMARY:Age Defense Master Class with Sublime Skin
DESCRIPTION:SUBLIME SKIN THE NATURAL FILLER SOLUTION\nHealthy\, plump skin is a universal desire\, even more so when the face shows signs of sagging and ageing—a challenge that requires a cutting-edge scientific approach. \nJoin us at an exclusive master class at Glen Ivy Hot Springs March 11th & 12th \, led by [ comfort zone ] skincare expert Rebecca Schneider. This interactive format centered around education through hands-on experience to learn application techniques and layering for optimal results. \nLearn about [ comfort zone ] Sublime Skin\, our natural filler solution\, specifically designed to counteract visible signs of ageing by reinforcing the skin’s structure—essential for maintaining tone and facial harmony. \nTimes\n10:30\, 12:00\, 1:30\, 3:00 (45min)
URL:https://glenivy.com/event/age-defense-master-class-with-sublime-skin/2026-03-12/
LOCATION:Glen Ivy Hot Springs
CATEGORIES:Activities,Featured,Master Class
ATTACH;FMTTYPE=image/jpeg:https://glenivy.com/wp-content/uploads/2026/02/Age-Defense-Master-Class-with-Sublime-Skin.jpg
END:VEVENT
BEGIN:VEVENT
DTSTART;TZID=America/Los_Angeles:20260324T110000
DTEND;TZID=America/Los_Angeles:20260324T150000
DTSTAMP:20260421T052149
CREATED:20240606T222326Z
LAST-MODIFIED:20260303T003853Z
UID:10004651-1774350000-1774364400@glenivy.com
SUMMARY:Honey Tastings at Glen Ivy
DESCRIPTION:Honey tasting is available from 11:00am to 3:00pm. \nBobcat Properties Farm produces some of the finest Orange Blossom\, California Black Sage and California Buckwheat Honey in the State. Owned and operated by three siblings and their families\, the farm is just minutes from Glen Ivy Hot Springs and is surrounded by the Cleveland National Forest in Southern California. Originally homesteaded in the 1880’s\, Bobcat Properties Farm uses all natural farming methods to produce honey\, lip balm and artisanal soap. In these special tasting sessions\, meet owner Lonnie Scott and taste the difference between these three varieties of California honey. \nWho Should Attend?\nOur honey tastings are open to everyone\, whether you’re a honey novice or a connoisseur. Join us to discover the unique flavors of California honey from Bobcat Properties Farm. \nWhere is it?\nHoney tastings are held in various locations throughout the Glen Ivy property. Please check with our staff at the check-in desk for the exact locations of the day’s events. \nHow to Attend/Reserve Your Spot\nScheduled admission is required for entry to the property. Upon arrival\, you can sign up for the complimentary honey tastings at the check-in desk. \nCost\nHoney tastings are complimentary\, but spots are limited. You can sign up for the 30-minute honey tastings at the check-in desk upon arrival. Sessions are limited to just 15 attendees. Be sure to reserve your spot early.
URL:https://glenivy.com/event/honey-tastings-at-glen-ivy/2026-03-24/
CATEGORIES:Activities,Featured
ATTACH;FMTTYPE=image/png:https://glenivy.com/wp-content/uploads/2025/03/Honey-Tastings-500.png
END:VEVENT
BEGIN:VEVENT
DTSTART;TZID=America/Los_Angeles:20260325T110000
DTEND;TZID=America/Los_Angeles:20260325T123000
DTSTAMP:20260421T052149
CREATED:20260303T004353Z
LAST-MODIFIED:20260303T004456Z
UID:10004653-1774436400-1774441800@glenivy.com
SUMMARY:Date Like a Woman Who Knows She’s the Prize
DESCRIPTION:The 3 Pillars to Clarity\, Confidence & Dating with Ease\nIf dating has felt exhausting\, confusing\, or discouraging\, this workshop will show you a different way. Learn how to get clear on the relationship you truly want\, shift your mindset out of scarcity\, and date from the version of you who knows her worth. No games. No chasing. Just calm confidence and empowered choosing. \nTimes: 11:00am and 12:30pm
URL:https://glenivy.com/event/date-like-a-woman-who-knows-shes-the-prize/
LOCATION:Glen Ivy Hot Springs
CATEGORIES:Activities,Featured
ATTACH;FMTTYPE=image/jpeg:https://glenivy.com/wp-content/uploads/2025/09/VidanoSharon-22.WEBjpg.jpg
END:VEVENT
END:VCALENDAR