BEGIN:VCALENDAR
VERSION:2.0
PRODID:-//Glen Ivy - ECPv6.15.20//NONSGML v1.0//EN
CALSCALE:GREGORIAN
METHOD:PUBLISH
X-WR-CALNAME:Glen Ivy
X-ORIGINAL-URL:https://glenivy.com
X-WR-CALDESC:Events for Glen Ivy
REFRESH-INTERVAL;VALUE=DURATION:PT1H
X-Robots-Tag:noindex
X-PUBLISHED-TTL:PT1H
BEGIN:VTIMEZONE
TZID:America/Los_Angeles
BEGIN:DAYLIGHT
TZOFFSETFROM:-0800
TZOFFSETTO:-0700
TZNAME:PDT
DTSTART:20250309T100000
END:DAYLIGHT
BEGIN:STANDARD
TZOFFSETFROM:-0700
TZOFFSETTO:-0800
TZNAME:PST
DTSTART:20251102T090000
END:STANDARD
BEGIN:DAYLIGHT
TZOFFSETFROM:-0800
TZOFFSETTO:-0700
TZNAME:PDT
DTSTART:20260308T100000
END:DAYLIGHT
BEGIN:STANDARD
TZOFFSETFROM:-0700
TZOFFSETTO:-0800
TZNAME:PST
DTSTART:20261101T090000
END:STANDARD
BEGIN:DAYLIGHT
TZOFFSETFROM:-0800
TZOFFSETTO:-0700
TZNAME:PDT
DTSTART:20270314T100000
END:DAYLIGHT
BEGIN:STANDARD
TZOFFSETFROM:-0700
TZOFFSETTO:-0800
TZNAME:PST
DTSTART:20271107T090000
END:STANDARD
END:VTIMEZONE
BEGIN:VEVENT
DTSTART;TZID=America/Los_Angeles:20260710T110000
DTEND;TZID=America/Los_Angeles:20260710T131500
DTSTAMP:20260425T042653
CREATED:20260424T171212Z
LAST-MODIFIED:20260424T222759Z
UID:10004682-1783681200-1783689300@glenivy.com
SUMMARY:Friday Candle Design Class
DESCRIPTION:Unleash your creativity in our Candle Making Workshop\, where you’ll explore the process of making custom candles from scratch. With easy step-by-step instruction\, you’ll learn about different waxes\, fragrances\, and molds to craft personalized candles perfect for gifting or home décor. This workshop is ideal for anyone looking to try something new and add a personal touch to their space. \nTaught by Bloom with Friends\, a local family-owned business\, this is an opportunity to let your creativity flourish. Our unique workshop is led by Jennifer Claar\,  in a welcoming\, hands-on\, and fun learning environment. You’ll leave our workshop with new skills that spark ongoing creativity and offer a sense of calm and relaxation. \nClasses available at 11:00am and 12:30pm and last 45-minutes. \nEnjoy one glass of red or white wine while you create! \nLimited availability | $40 per person
URL:https://glenivy.com/event/friday-candle-design-class/2026-07-10/
LOCATION:Glen Ivy Hot Springs
ATTACH;FMTTYPE=image/jpeg:https://glenivy.com/wp-content/uploads/2025/01/Candle-Design-scaled.jpg
END:VEVENT
BEGIN:VEVENT
DTSTART;TZID=America/Los_Angeles:20260717T110000
DTEND;TZID=America/Los_Angeles:20260717T131500
DTSTAMP:20260425T042653
CREATED:20260424T171212Z
LAST-MODIFIED:20260424T222759Z
UID:10004683-1784286000-1784294100@glenivy.com
SUMMARY:Friday Candle Design Class
DESCRIPTION:Unleash your creativity in our Candle Making Workshop\, where you’ll explore the process of making custom candles from scratch. With easy step-by-step instruction\, you’ll learn about different waxes\, fragrances\, and molds to craft personalized candles perfect for gifting or home décor. This workshop is ideal for anyone looking to try something new and add a personal touch to their space. \nTaught by Bloom with Friends\, a local family-owned business\, this is an opportunity to let your creativity flourish. Our unique workshop is led by Jennifer Claar\,  in a welcoming\, hands-on\, and fun learning environment. You’ll leave our workshop with new skills that spark ongoing creativity and offer a sense of calm and relaxation. \nClasses available at 11:00am and 12:30pm and last 45-minutes. \nEnjoy one glass of red or white wine while you create! \nLimited availability | $40 per person
URL:https://glenivy.com/event/friday-candle-design-class/2026-07-17/
LOCATION:Glen Ivy Hot Springs
ATTACH;FMTTYPE=image/jpeg:https://glenivy.com/wp-content/uploads/2025/01/Candle-Design-scaled.jpg
END:VEVENT
BEGIN:VEVENT
DTSTART;TZID=America/Los_Angeles:20260731T110000
DTEND;TZID=America/Los_Angeles:20260731T131500
DTSTAMP:20260425T042653
CREATED:20260424T171212Z
LAST-MODIFIED:20260424T222759Z
UID:10004684-1785495600-1785503700@glenivy.com
SUMMARY:Friday Candle Design Class
DESCRIPTION:Unleash your creativity in our Candle Making Workshop\, where you’ll explore the process of making custom candles from scratch. With easy step-by-step instruction\, you’ll learn about different waxes\, fragrances\, and molds to craft personalized candles perfect for gifting or home décor. This workshop is ideal for anyone looking to try something new and add a personal touch to their space. \nTaught by Bloom with Friends\, a local family-owned business\, this is an opportunity to let your creativity flourish. Our unique workshop is led by Jennifer Claar\,  in a welcoming\, hands-on\, and fun learning environment. You’ll leave our workshop with new skills that spark ongoing creativity and offer a sense of calm and relaxation. \nClasses available at 11:00am and 12:30pm and last 45-minutes. \nEnjoy one glass of red or white wine while you create! \nLimited availability | $40 per person
URL:https://glenivy.com/event/friday-candle-design-class/2026-07-31/
LOCATION:Glen Ivy Hot Springs
ATTACH;FMTTYPE=image/jpeg:https://glenivy.com/wp-content/uploads/2025/01/Candle-Design-scaled.jpg
END:VEVENT
END:VCALENDAR